BEGIN:VCALENDAR
VERSION:2.0
PRODID:-//Squarespace Inc/Squarespace 6//v6//EN
BEGIN:VEVENT
UID:5fb361db68ce5851dfa5ed9c@squarespace.com
DTSTAMP:20201117T054224Z
DTSTART:20201118T070000Z
DTEND:20201118T090000Z
SUMMARY:Wednesday Night Trivia
END:VEVENT
END:VCALENDAR
