BEGIN:VCALENDAR
VERSION:2.0
PRODID:-//Squarespace Inc/Squarespace 6//v6//EN
BEGIN:VEVENT
UID:5fb362c0e1b3d35af179508b@squarespace.com
DTSTAMP:20201117T054256Z
DTSTART:20201125T070000Z
DTEND:20201125T080000Z
SUMMARY:Wednesday Night Trivia
END:VEVENT
END:VCALENDAR
