BEGIN:VCALENDAR
VERSION:2.0
PRODID:-//Squarespace Inc/Squarespace 6//v6//EN
BEGIN:VEVENT
UID:6020d45950bac967bc744119@squarespace.com
DTSTAMP:20210208T061017Z
DTSTART:20210214T010000Z
DTEND:20210214T100000Z
SUMMARY:Valentines Day
GEO:-33.981813;151.080936
LOCATION:Oatley RSL & Community Club\, 23 Letitia Street\, Oatley\, NSW\, 2
 223\, Australia
END:VEVENT
END:VCALENDAR
