BEGIN:VCALENDAR
VERSION:2.0
PRODID:-//Squarespace Inc/Squarespace 6//v6//EN
BEGIN:VEVENT
UID:600515cef3041742d8c5ec0f@squarespace.com
DTSTAMP:20210118T050550Z
DTSTART:20210124T010000Z
DTEND:20210124T080000Z
SUMMARY:UFC 257 McGregor v. Poirier
END:VEVENT
END:VCALENDAR
