BEGIN:VCALENDAR
VERSION:2.0
PRODID:-//Squarespace Inc/Squarespace 6//v6//EN
BEGIN:VEVENT
UID:6020d1d6f944e970157450b8@squarespace.com
DTSTAMP:20210208T061159Z
DTSTART:20210212T080000Z
DTEND:20210212T125500Z
SUMMARY:All Stars Boxing - Rugby League Rivals 
GEO:-33.981813;151.080936
LOCATION:Oatley RSL & Community Club\, 23 Letitia Street\, Oatley\, NSW\, 2
 223\, Australia
END:VEVENT
END:VCALENDAR
