BEGIN:VCALENDAR
VERSION:2.0
PRODID:-//Squarespace Inc/Squarespace 6//v6//EN
BEGIN:VEVENT
UID:5fb3692e0d6e925f8fcef74b@squarespace.com
DTSTAMP:20201117T061251Z
DTSTART:20201118T081000Z
DTEND:20201118T093000Z
SUMMARY:State of Origin DECIDER
END:VEVENT
END:VCALENDAR
