BEGIN:VCALENDAR
VERSION:2.0
PRODID:-//Squarespace Inc/Squarespace 6//v6//EN
BEGIN:VEVENT
UID:5fb365ddf550b06bdb3eac8f@squarespace.com
DTSTAMP:20201117T060058Z
DTSTART:20201225T010000Z
DTEND:20201225T020000Z
SUMMARY:Oatley RSL Toy Donation
END:VEVENT
END:VCALENDAR
