BEGIN:VCALENDAR
VERSION:2.0
PRODID:-//Squarespace Inc/Squarespace 6//v6//EN
BEGIN:VEVENT
UID:60002ac6431d6965cc6ce8db@squarespace.com
DTSTAMP:20210119T104510Z
DTSTART:20210207T210000Z
DTEND:20210208T125500Z
SUMMARY:NFL Super Bowl 2021
END:VEVENT
END:VCALENDAR
