BEGIN:VCALENDAR
VERSION:2.0
PRODID:-//Squarespace Inc/Squarespace 6//v6//EN
BEGIN:VEVENT
UID:5fc1cca69d79364840d038ec@squarespace.com
DTSTAMP:20201128T041043Z
DTSTART:20201129T020000Z
DTEND:20201129T054500Z
SUMMARY:Tyson VS Jones
END:VEVENT
END:VCALENDAR
