BEGIN:VCALENDAR
VERSION:2.0
PRODID:-//Squarespace Inc/Squarespace 6//v6//EN
BEGIN:VEVENT
UID:5fb3635936d74939aa0d4b4d@squarespace.com
DTSTAMP:20201117T055521Z
DTSTART:20201120T074500Z
DTEND:20201120T084500Z
SUMMARY:MEGA Friday Night Raffle
END:VEVENT
END:VCALENDAR
