BEGIN:VCALENDAR
VERSION:2.0
PRODID:-//Squarespace Inc/Squarespace 6//v6//EN
BEGIN:VEVENT
UID:5fb364b8fe81d959f1b8c0bf@squarespace.com
DTSTAMP:20201117T055155Z
DTSTART:20201127T074500Z
DTEND:20201127T084500Z
SUMMARY:MEGA Friday Night Raffle
END:VEVENT
END:VCALENDAR
