BEGIN:VCALENDAR
VERSION:2.0
PRODID:-//Squarespace Inc/Squarespace 6//v6//EN
BEGIN:VEVENT
UID:5fb362e93863cc578f0169ce@squarespace.com
DTSTAMP:20201117T054447Z
DTSTART:20201118T063000Z
DTEND:20201118T073000Z
SUMMARY:Fisho’s Raffle
END:VEVENT
END:VCALENDAR
