BEGIN:VCALENDAR
VERSION:2.0
PRODID:-//Squarespace Inc/Squarespace 6//v6//EN
BEGIN:VEVENT
UID:5fc58f983c02f22b9dcaf70a@squarespace.com
DTSTAMP:20201201T005027Z
DTSTART:20201216T010000Z
DTEND:20201216T050500Z
SUMMARY:Tszyu vs. Morgan
END:VEVENT
END:VCALENDAR
