BEGIN:VCALENDAR
VERSION:2.0
PRODID:-//Squarespace Inc/Squarespace 6//v6//EN
BEGIN:VEVENT
UID:5fad40a4844f9e409e1eda32@squarespace.com
DTSTAMP:20201117T055349Z
DTSTART:20201127T073000Z
DTEND:20201127T083000Z
SUMMARY:2020 Ham Raffle [1/4]
END:VEVENT
END:VCALENDAR
