BEGIN:VCALENDAR
VERSION:2.0
PRODID:-//Squarespace Inc/Squarespace 6//v6//EN
BEGIN:VEVENT
UID:5fad421354d01722c15e4640@squarespace.com
DTSTAMP:20201128T072052Z
DTSTART:20201204T073000Z
DTEND:20201204T083000Z
SUMMARY:2020 Ham Raffle [2/4]
END:VEVENT
END:VCALENDAR
