BEGIN:VCALENDAR
VERSION:2.0
PRODID:-//Squarespace Inc/Squarespace 6//v6//EN
BEGIN:VEVENT
UID:5fad424af8f3f141905a7735@squarespace.com
DTSTAMP:20201128T072105Z
DTSTART:20201211T073000Z
DTEND:20201211T083000Z
SUMMARY:2020 Ham Raffle [3/4]
END:VEVENT
END:VCALENDAR
