BEGIN:VCALENDAR
VERSION:2.0
PRODID:-//Squarespace Inc/Squarespace 6//v6//EN
BEGIN:VEVENT
UID:5fad427416947a58fea2a074@squarespace.com
DTSTAMP:20201128T072114Z
DTSTART:20201218T073000Z
DTEND:20201218T083000Z
SUMMARY:2020 Ham Raffle [4/4]
END:VEVENT
END:VCALENDAR
